BEGIN:VCALENDAR
VERSION:2.0
PRODID:-//Brierley Hill Community Forum - ECPv6.15.20//NONSGML v1.0//EN
CALSCALE:GREGORIAN
METHOD:PUBLISH
X-WR-CALNAME:Brierley Hill Community Forum
X-ORIGINAL-URL:https://brierleyhill.net
X-WR-CALDESC:Events for Brierley Hill Community Forum
REFRESH-INTERVAL;VALUE=DURATION:PT1H
X-Robots-Tag:noindex
X-PUBLISHED-TTL:PT1H
BEGIN:VTIMEZONE
TZID:UTC
BEGIN:STANDARD
TZOFFSETFROM:+0000
TZOFFSETTO:+0000
TZNAME:UTC
DTSTART:20230101T000000
END:STANDARD
END:VTIMEZONE
BEGIN:VEVENT
DTSTART;TZID=UTC:20240907T110000
DTEND;TZID=UTC:20240907T150000
DTSTAMP:20260420T125936
CREATED:20240831T100921Z
LAST-MODIFIED:20240831T110104Z
UID:860-1725706800-1725721200@brierleyhill.net
SUMMARY:Phoenix Project Sharing (Pt 1) - Brierley Hill Market - The Story Shop
DESCRIPTION:Working with landscape theatre specialists Wildworks\, local community artists have been gathering stories from Brierley Hill residents to create multi-venue performances over a whole afternoon and early evening. \nPart one starts in the market and is based on stories discovered by local primary school children and with our addictive story capturers on hand to capture any stories you may like to contribute.
URL:https://brierleyhill.net/event/phoenix-performance-pt-1-brierley-hill-market-the-story-shop
LOCATION:Brierley Hill Market\, High Street\, Brierley Hill\, West Midlands\, DY5\, United Kingdom
CATEGORIES:Performance,Phoenix
ATTACH;FMTTYPE=image/jpeg:https://brierleyhill.net/wp-content/uploads/2024/08/456253980_506762728718913_9198058165376060401_n.jpg
END:VEVENT
BEGIN:VEVENT
DTSTART;TZID=UTC:20240907T153000
DTEND;TZID=UTC:20240907T155000
DTSTAMP:20260420T125936
CREATED:20240831T101315Z
LAST-MODIFIED:20240831T110140Z
UID:863-1725723000-1725724200@brierleyhill.net
SUMMARY:Phoenix Project Sharing (Pt 2) - Brierley Hill Library - Performance
DESCRIPTION:Working with landscape theatre specialists Wildworks\, local community artists have been gathering stories from Brierley Hill residents to create multi-venue performances over a whole afternoon and early evening. \nPart 2 is a performance at the library\, featuring one woman’s journey by Lorna Rose.
URL:https://brierleyhill.net/event/phoenix-performance-pt-2-brierley-hill-library-performance
LOCATION:Brierley Hill Library\, 122 High St\, Brierley Hill\, West Midlands\, DY5 3ET
ATTACH;FMTTYPE=image/jpeg:https://brierleyhill.net/wp-content/uploads/2024/08/456253980_506762728718913_9198058165376060401_n.jpg
END:VEVENT
BEGIN:VEVENT
DTSTART;TZID=UTC:20240907T180000
DTEND;TZID=UTC:20240907T182000
DTSTAMP:20260420T125936
CREATED:20240831T102209Z
LAST-MODIFIED:20240831T110706Z
UID:865-1725732000-1725733200@brierleyhill.net
SUMMARY:Phoenix Project Sharing (Pt 3) - St Michael's Church - Performance
DESCRIPTION:Working with landscape theatre specialists Wildworks\, local community artists have been gathering stories from Brierley Hill residents to create multi-venue performances over a whole afternoon and early evening. \nPart 3 takes place at St Michael’s Church where lead artist Kim Archer will be performing a work based on stories collected at Oakfield Community Centre\, during an afternoon bingo session.
URL:https://brierleyhill.net/event/phoenix-project-sharing-pt-3-performance-st-michaels-church
LOCATION:West Midlands
ATTACH;FMTTYPE=image/jpeg:https://brierleyhill.net/wp-content/uploads/2024/08/456253980_506762728718913_9198058165376060401_n.jpg
END:VEVENT
BEGIN:VEVENT
DTSTART;TZID=UTC:20240907T190000
DTEND;TZID=UTC:20240907T194000
DTSTAMP:20260420T125936
CREATED:20240831T111646Z
LAST-MODIFIED:20240831T111646Z
UID:872-1725735600-1725738000@brierleyhill.net
SUMMARY:Phoenix Project Sharing (Pt 4) – Delph Locks Stables – Performance
DESCRIPTION:Working with landscape theatre specialists Wildworks\, local community artists have been gathering stories from Brierley Hill residents to create multi-venue performances over a whole afternoon and early evening. \nPart 4 is led by Jake Oldershaw who has worked with tales of the canal and the surrounding areas told to him by walkers and visitors to the Delph Locks stables in July.
URL:https://brierleyhill.net/event/phoenix-project-sharing-pt-4-delph-locks-stables-performance
LOCATION:Delph Locks Stables\, Mill Street\, Brierley Hill\, West Midlands\, DY5 2TD\, United Kingdom
ATTACH;FMTTYPE=image/jpeg:https://brierleyhill.net/wp-content/uploads/2024/08/456253980_506762728718913_9198058165376060401_n.jpg
END:VEVENT
BEGIN:VEVENT
DTSTART;TZID=UTC:20240909T194500
DTEND;TZID=UTC:20240909T210000
DTSTAMP:20260420T125936
CREATED:20240830T135244Z
LAST-MODIFIED:20240903T102136Z
UID:802-1725911100-1725915600@brierleyhill.net
SUMMARY:Graves at Night 2 - Commonwealth Graves and the War Memorial
DESCRIPTION:Building on the popular Heritage Open Days Graves at Night walks held in the last two years\, this successor walk looks at some the most significant graves in the churchyard:  The Commonwealth War Graves.  The walk will look at some of the 21 CWGC graves in the churchyard and tell the stories behind them.  We will also visit the town War Memorial to learn of the fight to get it funded and erected\, plus details of the more than 300 names on it.  As a special added bonus\, participants will receive a copy of the 36 page War Memorial Centenary Booklet. Please note: YOU MUST RSVP to register for this walk – there are limited spaces.
URL:https://brierleyhill.net/event/graves-at-night-2-commonwealth-graves-and-the-war-memorial
LOCATION:St Michael’s Church\, Bell Street South\, Brierley Hill\, West Midlands\, DY5 3EX\, United Kingdom
CATEGORIES:Remembrance,Tour
ATTACH;FMTTYPE=image/jpeg:https://brierleyhill.net/wp-content/uploads/2024/08/Graves-at-Night-2.jpg
ORGANIZER;CN="Tim Sunter":MAILTO:tim@sunter.uk
END:VEVENT
BEGIN:VEVENT
DTSTART;TZID=UTC:20240910T194500
DTEND;TZID=UTC:20240910T210000
DTSTAMP:20260420T125936
CREATED:20240830T135723Z
LAST-MODIFIED:20240910T165546Z
UID:807-1725997500-1726002000@brierleyhill.net
SUMMARY:Graves at Night 2 – Commonwealth Graves and the War Memorial
DESCRIPTION:Building on the popular Heritage Open Days Graves at Night walks held in the last two years\, this successor walk looks at some the most significant graves in the churchyard:  The Commonwealth War Graves.  The walk will look at some of the 21 CWGC graves in the churchyard and tell the stories behind them.  We will also visit the town War Memorial to learn of the fight to get it funded and erected\, plus details of the more than 300 names on it.  As a special added bonus\, participants will receive a copy of the 36 page War Memorial Centenary Booklet. 
URL:https://brierleyhill.net/event/graves-at-night-2-commonwealth-graves-and-the-war-memorial-2
LOCATION:St Michael’s Church\, Bell Street South\, Brierley Hill\, West Midlands\, DY5 3EX\, United Kingdom
CATEGORIES:Remembrance,Tour
ATTACH;FMTTYPE=image/jpeg:https://brierleyhill.net/wp-content/uploads/2024/08/Graves-at-Night-2.jpg
ORGANIZER;CN="Tim Sunter":MAILTO:tim@sunter.uk
END:VEVENT
BEGIN:VEVENT
DTSTART;TZID=UTC:20240912T194500
DTEND;TZID=UTC:20240912T213000
DTSTAMP:20260420T125936
CREATED:20240830T142343Z
LAST-MODIFIED:20240903T101610Z
UID:819-1726170300-1726176600@brierleyhill.net
SUMMARY:Graves at Night - the original
DESCRIPTION:Explore the history of Brierley Hill through the stories of the people who\, literally\, made the town.  This guided walk is delivered after dusk to give added atmosphere as we walk around the graveyard.  This walk has “sold out” (there’s no fee for the walk) in previous years and has received rave reviews (blushes!). Bring your own torch – some are available to borrow\, but your own may be better and dress appropriately for an evening walk.  Remember there may be rainy weather too.  Good footwear essential. RSVP to book your place.
URL:https://brierleyhill.net/event/graves-at-night-the-original
LOCATION:St Michael’s Church\, Bell Street South\, Brierley Hill\, West Midlands\, DY5 3EX\, United Kingdom
CATEGORIES:Historical,Tour
ATTACH;FMTTYPE=image/jpeg:https://brierleyhill.net/wp-content/uploads/2024/08/Logo_Bottom_right.jpg
ORGANIZER;CN="Tim Sunter":MAILTO:tim@sunter.uk
END:VEVENT
BEGIN:VEVENT
DTSTART;TZID=UTC:20240914T090000
DTEND;TZID=UTC:20240914T160000
DTSTAMP:20260420T125936
CREATED:20240831T093226Z
LAST-MODIFIED:20240903T101426Z
UID:845-1726304400-1726329600@brierleyhill.net
SUMMARY:Brierley Hill Library - badge making\, old photos\, artefacts
DESCRIPTION:Have you visited our wonderfully refurbished library since it reopened.  This is your chance.  The building has been transformed and today it will be holding a display of its old photographs\, challenging you to help put together a jigsaw of an aerial photograph of Brierley Hill from 1931\, and gifting the opportunity to make a badge of your own design or using one of ours.  On top of all of that it houses the town’s local history collection and some remarkable historic artefacts.
URL:https://brierleyhill.net/event/brierley-hill-library-badge-making-old-photos-artefacts
LOCATION:Brierley Hill Library\, 122 High St\, Brierley Hill\, West Midlands\, DY5 3ET
CATEGORIES:Crafts,Exhibition,Family event,Historical
ATTACH;FMTTYPE=image/jpeg:https://brierleyhill.net/wp-content/uploads/2024/08/Library-Entrance.jpg
END:VEVENT
BEGIN:VEVENT
DTSTART;TZID=UTC:20240914T090000
DTEND;TZID=UTC:20240914T160000
DTSTAMP:20260420T125936
CREATED:20240831T094302Z
LAST-MODIFIED:20240903T102210Z
UID:848-1726304400-1726329600@brierleyhill.net
SUMMARY:Brierley Hill Market - 40 Faces
DESCRIPTION:Markets have been at the heart of Brierley Hill for almost 200 years.  Presently undergoing a refurbishment as part of the towns Heritage Action Zone with support from Dudley Council and Historic England\, the market has 40 stall holders – making it still one of the most thriving markets in the Black Country.  To celebrate its historic role in the town singer Natalie Knight and magician Thomas Dixon will be adding to the magic of the market.  Plus an opportunity to grab yourself a bargain from one of its stalls. \nThe origins of the market (extract from the Clulow Journal – available from the library) \n“A tall\, inoffensive young woman\, a stranger to us\, with a large white apron\, came with basket and stores. She also brought a small round table\, and placed it on the corner of the foot road at the top of Moor Street\, on the side of the Brickmaker’s Arms\, now a winery shop (actually now the site of the Moor Centre). Her first table was furnished with penny pies\, halfpenny cakes\, and half-penny long sucks. On account of the novelty of the stall\, she soon disposed of all of her wares to eager looking customers. \n“The next Saturday\, she came also\, with her dainties and white apron and white table cloth. This time she was joined by a vendor of fruit and other items. Soon these eatables were disposed of. On the third Saturday\, half-a-dozen vendors of different sorts\, were to be seen. Soon after that\, stalls began to be created and erected by our shop neighbours from and around the place\, causing a little jealousy to the High Street shopkeepers. So\, at last\, they nearly all turned out with stalls or tables\, well-stocked\, on a Saturday evening.” \n  \n \n  \n 
URL:https://brierleyhill.net/event/brierley-hill-market-40-faces
LOCATION:West Midlands
CATEGORIES:Performance
ATTACH;FMTTYPE=image/jpeg:https://brierleyhill.net/wp-content/uploads/2024/08/Market-ww2.jpg
END:VEVENT
BEGIN:VEVENT
DTSTART;TZID=UTC:20240914T100000
DTEND;TZID=UTC:20240914T120000
DTSTAMP:20260420T125936
CREATED:20240830T143909Z
LAST-MODIFIED:20240903T101347Z
UID:823-1726308000-1726315200@brierleyhill.net
SUMMARY:Ring a Church Bell
DESCRIPTION:Have you ever wondered what it feels like to ring a church bell?  How do church bell ringers know when to ring their bell?  How many different orders can you ring seven bells in?  This is an opportunity to answer those questions\, to visit the normally closed ringing room\, and to have a go at ringing a church bell yourself.  Free “I’ve rung the bells of St Michael’s” badge to all who have a go!!!!  Each visit lasts about 15 minutes – no need to book.
URL:https://brierleyhill.net/event/ring-a-church-bell
LOCATION:St Michael’s Church\, Bell Street South\, Brierley Hill\, West Midlands\, DY5 3EX\, United Kingdom
ATTACH;FMTTYPE=image/jpeg:https://brierleyhill.net/wp-content/uploads/2024/08/Ring-a-church-bell.jpg
ORGANIZER;CN="Tim Sunter":MAILTO:tim@sunter.uk
END:VEVENT
BEGIN:VEVENT
DTSTART;TZID=UTC:20240914T100000
DTEND;TZID=UTC:20240914T123000
DTSTAMP:20260420T125936
CREATED:20240830T144528Z
LAST-MODIFIED:20240903T101306Z
UID:826-1726308000-1726317000@brierleyhill.net
SUMMARY:Have a go at handbell ringing
DESCRIPTION:When Tim and Jenny took over the bell ringing in the tower they found scattered around the ringing room a set of old bells.  Some were cracked\, some were missing clappers.  On others the handles had come off.  Supported by grants from the Fisher Trust and St Michael’s Church the bells were sent of to be refurbished…and then it was discovered that they were over 150 years old and made by the same foundry that made Big Ben and the Liberty Bell in America! \nThis is a chance for you to have a go at ringing these precious bells.  It’s quick to get a tune out of and a great chance to video yourself.  We’ll also cover the ‘tunes’ church bell ringers play on a Sunday morning.  Fun for all ages. \nSessions run for about 30 minutes.  No need to book.
URL:https://brierleyhill.net/event/have-a-go-at-handbell-ringing
LOCATION:St Michael’s Church\, Bell Street South\, Brierley Hill\, West Midlands\, DY5 3EX\, United Kingdom
CATEGORIES:Crafts,Take Part
ATTACH;FMTTYPE=image/jpeg:https://brierleyhill.net/wp-content/uploads/2024/08/Handbell-ringing.jpg
ORGANIZER;CN="Tim Sunter":MAILTO:tim@sunter.uk
END:VEVENT
BEGIN:VEVENT
DTSTART;TZID=UTC:20240914T100000
DTEND;TZID=UTC:20240914T140000
DTSTAMP:20260420T125936
CREATED:20240830T171639Z
LAST-MODIFIED:20240903T101233Z
UID:836-1726308000-1726322400@brierleyhill.net
SUMMARY:Former Library and Technical Institute
DESCRIPTION:Work is ongoing on this fabulous building.  Opened in 1904 as a Technical Institute\, Art School and college\, the building has some fine examples of Terracotta figures\, designed by Mart Masters Gibbons and Oaken.  Inside are tiles donated by the famous Gibbons and Hinton tile factory and admirable stained glass.  The outside of the building is being renovated as part of the council’s Heritage Action Zone project\, funded by Historic England.  Inside work is being done to convert the building to residential uses.  This is a super opportunity to visit the building part way through the conversion.
URL:https://brierleyhill.net/event/former-library-and-technical-institute
LOCATION:Technical Insitute and Library\, Moor Street\, Brierley Hill\, West Midlands\, United Kingdom
CATEGORIES:Historical,Tour
ATTACH;FMTTYPE=image/jpeg:https://brierleyhill.net/wp-content/uploads/2024/08/Technical-institute.jpg
ORGANIZER;CN="Tim Sunter":MAILTO:tim@sunter.uk
END:VEVENT
BEGIN:VEVENT
DTSTART;TZID=UTC:20240914T100000
DTEND;TZID=UTC:20240914T140000
DTSTAMP:20260420T125936
CREATED:20240831T092623Z
LAST-MODIFIED:20240903T101205Z
UID:842-1726308000-1726322400@brierleyhill.net
SUMMARY:Albion Street Church - Free to explore
DESCRIPTION:Built in 1882 this building served initially as a Congregationalist Church.  During the Second World War\, Brierley Hill’s Air Raid Patrol centre was located here.  The inside of the building has been extensively refurbished in the last few years and this is an opportunity to see a fine example of what can be done to adapt an old building for modern use.  A chance to explore and a historic exhibition available.
URL:https://brierleyhill.net/event/albion-street-church-free-to-explore
LOCATION:Albion Street Church\, Albion Street\, Brierley Hill\, West Midlands\, DY5 3EE\, United Kingdom
CATEGORIES:Historical,Tour
ATTACH;FMTTYPE=image/jpeg:https://brierleyhill.net/wp-content/uploads/2024/08/Albion-Street-open.jpg
END:VEVENT
BEGIN:VEVENT
DTSTART;TZID=UTC:20240914T100000
DTEND;TZID=UTC:20240914T150000
DTSTAMP:20260420T125936
CREATED:20240830T170521Z
LAST-MODIFIED:20240903T101133Z
UID:832-1726308000-1726326000@brierleyhill.net
SUMMARY:St Michael's Church - Free to Explore!
DESCRIPTION:See inside the Brierley Hill’s oldest building (1765).  Now grade 2 listed.  Look around the church – the inside will surprise you –  visit the historic graveyard (self guided tour available).  Learn about the memorials in the church and admire the stained glass windows.  At the same venue there will be Stained Glass based activities\, Craft Book making\, handbell ringing and the rare opportunity to visit the bell tower and ringing room.
URL:https://brierleyhill.net/event/st-michaels-church-free-to-explore
LOCATION:St Michael’s Church\, Bell Street South\, Brierley Hill\, West Midlands\, DY5 3EX\, United Kingdom
CATEGORIES:Crafts,Historical,Remembrance,Tour
ATTACH;FMTTYPE=image/jpeg:https://brierleyhill.net/wp-content/uploads/2024/08/St-Michaels-open.jpg
ORGANIZER;CN="Tim Sunter":MAILTO:tim@sunter.uk
END:VEVENT
BEGIN:VEVENT
DTSTART;TZID=UTC:20240914T100000
DTEND;TZID=UTC:20240914T150000
DTSTAMP:20260420T125936
CREATED:20240831T092116Z
LAST-MODIFIED:20240903T101056Z
UID:839-1726308000-1726326000@brierleyhill.net
SUMMARY:Crafting at Harry's on the High Street
DESCRIPTION:Free crafting for all ages at Harry’s on the High Street.  Jewellery making\, rock painting\, card making\, jigsaw mat and more.  All Free!!!  Woo hoo!!!!
URL:https://brierleyhill.net/event/crafting-at-harrys-on-the-high-street
LOCATION:Harry’s\, 65a High Street\, Brierley Hill\, West Midlands\, DY5 3AE\, United Kingdom
ATTACH;FMTTYPE=image/jpeg:https://brierleyhill.net/wp-content/uploads/2024/08/Harrys.jpg
ORGANIZER;CN="Tim Sunter":MAILTO:tim@sunter.uk
END:VEVENT
BEGIN:VEVENT
DTSTART;TZID=UTC:20240914T100000
DTEND;TZID=UTC:20240914T150000
DTSTAMP:20260420T125936
CREATED:20240831T095040Z
LAST-MODIFIED:20240903T100742Z
UID:851-1726308000-1726326000@brierleyhill.net
SUMMARY:St Mary's Church - Free to Explore
DESCRIPTION:Don’t let this extraordinary building’s exterior fool you.  This is a gem of a building and a real beauty inside.  Pugin designed\, the building is home to some extraordinary artwork.  Heritage Open Day gives you a chance to tour the inside PLUS as a bonus\, the opportunity to listen to harp and organ playing by Helen Barley and Richard James respectively PLUS Helen has kindly agree to bring along some of her harps for YOU to have a go on.  How cool is that!!!  There will also be a mouse trail for youngsters and refreshments will be available. \n 
URL:https://brierleyhill.net/event/st-marys-church-free-to-explore
LOCATION:St Mary’s RC Church\, 26 High Street\, Brierley Hill\, West Midlands\, DY5 3AE\, United Kingdom
ATTACH;FMTTYPE=image/jpeg:https://brierleyhill.net/wp-content/uploads/2024/08/St-Marys-open.jpg
ORGANIZER;CN="Tim Sunter":MAILTO:tim@sunter.uk
END:VEVENT
BEGIN:VEVENT
DTSTART;TZID=UTC:20240914T100000
DTEND;TZID=UTC:20240914T225000
DTSTAMP:20260420T125936
CREATED:20240830T144944Z
LAST-MODIFIED:20240903T102327Z
UID:829-1726308000-1726354200@brierleyhill.net
SUMMARY:Stained glass workshops
DESCRIPTION:Create a colourful piece of art to decorate your home or present as a gift. We will be working with acrylic glass to make designs inspired by the beautiful windows of St Michael’s church. This session is 16+ but younger children are welcome if accompanied by an adult.   Choose one session from 1000 and 1200.  Sessions last 50 minutes. \n 
URL:https://brierleyhill.net/event/stained-glass-workshops
LOCATION:St Michael’s Church\, Bell Street South\, Brierley Hill\, West Midlands\, DY5 3EX\, United Kingdom
CATEGORIES:Crafts,Historical
ATTACH;FMTTYPE=image/jpeg:https://brierleyhill.net/wp-content/uploads/2024/08/Stained-glass-workshops.jpg
ORGANIZER;CN="Tim Sunter":MAILTO:tim@sunter.uk
END:VEVENT
BEGIN:VEVENT
DTSTART;TZID=UTC:20240914T103000
DTEND;TZID=UTC:20240914T120000
DTSTAMP:20260420T125936
CREATED:20240831T095520Z
LAST-MODIFIED:20240903T102252Z
UID:854-1726309800-1726315200@brierleyhill.net
SUMMARY:Free Harp Recital and have a go at harp playing - St Mary's Church
DESCRIPTION:Listen to the talented harpist Helen Barley play.  The recital commences at 1030.  When she has finished performing Helen will be letting people have their own go at playing one of her harps.  An extraordinary opportunity. \n 
URL:https://brierleyhill.net/event/free-harp-recital-and-have-a-go-at-harp-playing-st-marys-church
LOCATION:St Mary’s RC Church\, 26 High Street\, Brierley Hill\, West Midlands\, DY5 3AE\, United Kingdom
ATTACH;FMTTYPE=image/jpeg:https://brierleyhill.net/wp-content/uploads/2024/08/Harp.jpg
END:VEVENT
BEGIN:VEVENT
DTSTART;TZID=UTC:20240914T110000
DTEND;TZID=UTC:20240914T115000
DTSTAMP:20260420T125936
CREATED:20240830T140849Z
LAST-MODIFIED:20240903T100910Z
UID:812-1726311600-1726314600@brierleyhill.net
SUMMARY:Craft Bookmaking
DESCRIPTION:Create a mini notebook bound in a cover of your design. Besides assembling the booklets\, we will be using a variety of carved stamps to decorate their pages with images in the tradition of medieval art.  No need to book\, just turn up! \n 
URL:https://brierleyhill.net/event/craft-bookmaking
LOCATION:St Michael’s Church\, Bell Street South\, Brierley Hill\, West Midlands\, DY5 3EX\, United Kingdom
CATEGORIES:Crafts,Historical
ATTACH;FMTTYPE=image/jpeg:https://brierleyhill.net/wp-content/uploads/2024/08/Craft-bookmaking.jpg
ORGANIZER;CN="Tim Sunter":MAILTO:tim@sunter.uk
END:VEVENT
BEGIN:VEVENT
DTSTART;TZID=UTC:20240914T113000
DTEND;TZID=UTC:20240914T130000
DTSTAMP:20260420T125936
CREATED:20240831T100008Z
LAST-MODIFIED:20240903T100839Z
UID:857-1726313400-1726318800@brierleyhill.net
SUMMARY:Free organ recital with Richard James - St Mary's Church
DESCRIPTION:Relax as Richard hits the keyboard at this 150 year old church – dream about the generations of our ancestors who have sat here over the decades appreciated the very same instrument.  Let yourself go wherever the music takes you.  Plus the opportunity to visit the normally out of bounds organ loft. Not to be missed. \n 
URL:https://brierleyhill.net/event/free-organ-recital-with-richard-james-st-marys-church
LOCATION:St Mary’s RC Church\, 26 High Street\, Brierley Hill\, West Midlands\, DY5 3AE\, United Kingdom
ATTACH;FMTTYPE=image/jpeg:https://brierleyhill.net/wp-content/uploads/2024/08/Organ.jpg
ORGANIZER;CN="Tim Sunter":MAILTO:tim@sunter.uk
END:VEVENT
BEGIN:VEVENT
DTSTART;TZID=UTC:20240914T133000
DTEND;TZID=UTC:20240914T142000
DTSTAMP:20260420T125936
CREATED:20240830T141631Z
LAST-MODIFIED:20240903T100611Z
UID:816-1726320600-1726323600@brierleyhill.net
SUMMARY:Craft Bookmaking
DESCRIPTION:Create a mini notebook bound in a cover of your design. Besides assembling the booklets\, we will be using a variety of carved stamps to decorate their pages with images in the tradition of medieval art.  No need to book\, just turn up! \n 
URL:https://brierleyhill.net/event/craft-bookmaking-2
LOCATION:St Michael’s Church\, Bell Street South\, Brierley Hill\, West Midlands\, DY5 3EX\, United Kingdom
CATEGORIES:Crafts,Historical
ATTACH;FMTTYPE=image/jpeg:https://brierleyhill.net/wp-content/uploads/2024/08/Craft-bookmaking.jpg
END:VEVENT
END:VCALENDAR