BEGIN:VCALENDAR
VERSION:2.0
PRODID:-//Brierley Hill Community Forum - ECPv6.15.20//NONSGML v1.0//EN
CALSCALE:GREGORIAN
METHOD:PUBLISH
X-WR-CALNAME:Brierley Hill Community Forum
X-ORIGINAL-URL:https://brierleyhill.net
X-WR-CALDESC:Events for Brierley Hill Community Forum
REFRESH-INTERVAL;VALUE=DURATION:PT1H
X-Robots-Tag:noindex
X-PUBLISHED-TTL:PT1H
BEGIN:VTIMEZONE
TZID:UTC
BEGIN:STANDARD
TZOFFSETFROM:+0000
TZOFFSETTO:+0000
TZNAME:UTC
DTSTART:20240101T000000
END:STANDARD
END:VTIMEZONE
BEGIN:VEVENT
DTSTART;TZID=UTC:20250308T110000
DTEND;TZID=UTC:20250308T150000
DTSTAMP:20260420T171656
CREATED:20250307T111214Z
LAST-MODIFIED:20250307T111214Z
UID:1009-1741431600-1741446000@brierleyhill.net
SUMMARY:1940s Day\, Brierley Hill Market
DESCRIPTION:Saturday 8th March 11am-3pm the Market is hosting another of its very successful 1940s days. Step back in time to the glory days of World War 2 with a range of top-class performers on the market stage. These will include singer Vicky Elise\, George Formby tribute Kyle Evans\, tap dancer Katie Lewis\, and banjo player Angie Parker! \nAs well as the entertainment\, genuine World War 2 military vehicles will be on display at the back of the market. There will be a fancy-dress competition\, dress up in 1940s style and win a prize! Prizes for best 1940s dressed gentlemen\, lady and child. There will also be a special competition for children\, find 10 warplanes in the market and win a prize! FREE activities for all the family!
URL:https://brierleyhill.net/event/1940s-day-brierley-hill-market
LOCATION:Brierley Hill Market\, High Street\, Brierley Hill\, West Midlands\, DY5\, United Kingdom
CATEGORIES:Family event,Historical,Take Part
ATTACH;FMTTYPE=image/jpeg:https://brierleyhill.net/wp-content/uploads/2025/03/image.jpeg
ORGANIZER;CN="Steve Bridgewater":MAILTO:stevebridgwater@outlook.com
END:VEVENT
END:VCALENDAR