BEGIN:VCALENDAR
VERSION:2.0
PRODID:-//Brierley Hill Community Forum - ECPv6.15.20//NONSGML v1.0//EN
CALSCALE:GREGORIAN
METHOD:PUBLISH
X-WR-CALNAME:Brierley Hill Community Forum
X-ORIGINAL-URL:https://brierleyhill.net
X-WR-CALDESC:Events for Brierley Hill Community Forum
REFRESH-INTERVAL;VALUE=DURATION:PT1H
X-Robots-Tag:noindex
X-PUBLISHED-TTL:PT1H
BEGIN:VTIMEZONE
TZID:UTC
BEGIN:STANDARD
TZOFFSETFROM:+0000
TZOFFSETTO:+0000
TZNAME:UTC
DTSTART:20230101T000000
END:STANDARD
END:VTIMEZONE
BEGIN:VEVENT
DTSTART;TZID=UTC:20241004T193000
DTEND;TZID=UTC:20241004T220000
DTSTAMP:20260420T142013
CREATED:20240920T144328Z
LAST-MODIFIED:20240920T150104Z
UID:969-1728070200-1728079200@brierleyhill.net
SUMMARY:Denver to Diamond
DESCRIPTION:Celebrate the music of JOHN DENVER and NEIL DIAMOND on Friday 4th October in the beautiful surroundings of Grade II listed St Michael’s Church\, Bell Street South\, DY5 3EX. \n  \nWayne Denton’s sell out double tribute show. Ticket’s just £10 including a free drink and entry to a raffle. \nClick RSVP OR email ticketsatchurch@gmail.com to reserve your place\, OR call in St Michael’s any Thursday 1000-1430.
URL:https://brierleyhill.net/event/denver-to-diamond
LOCATION:St Michael’s Church\, Bell Street South\, Brierley Hill\, West Midlands\, DY5 3EX\, United Kingdom
ATTACH;FMTTYPE=image/jpeg:https://brierleyhill.net/wp-content/uploads/2024/09/From-Denver-to-Diamond-4-October-2024-scaled.jpg
ORGANIZER;CN="Bill White":MAILTO:ticketsatchurch@gmail.com
END:VEVENT
END:VCALENDAR